BEGIN:VCALENDAR
VERSION:2.0
PRODID:-//Eventin//Event Calendar//EN
CALSCALE:GREGORIAN
METHOD:PUBLISH
BEGIN:VEVENT
UID:eb7f2411c85915e4fd77e05e2a7cac85@skfr.org
SUMMARY:Station 10 Open House
DESCRIPTION:Join us for an exciting Open House at your local fire station! 
 Meet your firefighters\, and tour the engine. Bring the whole family for a 
 fun and educational day!
LOCATION:Station 10- 5629 Banner Road SE\, Port Orchard WA\, 98367
DTSTAMP:20260425T101700Z
DTSTART:20260509T170000Z
DTEND:20260509T190000Z
END:VEVENT
END:VCALENDAR
