BEGIN:VCALENDAR
VERSION:2.0
PRODID:-//Eventin//Event Calendar//EN
CALSCALE:GREGORIAN
METHOD:PUBLISH
BEGIN:VEVENT
UID:eb2dce0ebbce2ae9331cbc653d370157@skfr.org
SUMMARY:Safety Fair
DESCRIPTION:Join us for an exciting day at Jackson Park for our Safety Fair
 ! Meet your firefighters and tour the fire engine and ambulance. Join in on
  fire extinguisher training and hands only CPR. \nWe will also have a bike 
 riding safety course hosted by the Kiwanis. Make sure to bring your bike al
 ong. \nBring the whole family for a fun and educational day!\n We will be r
 affling off prizes throughout the day\; you might just win something!\nsave
  the date
LOCATION:2729 Jackson Ave SE\, Port Orchard WA\, 98366
DTSTAMP:20260423T114718Z
DTSTART:20260620T180000Z
DTEND:20260620T220000Z
END:VEVENT
END:VCALENDAR
